BEGIN:VCALENDAR
VERSION:2.0
PRODID:-//hacksw/handcal//NONSGML v1.0//EN
BEGIN:VEVENT
UID:ad731c496cbc6e30baa41ff815240366
DTSTAMP:20260419T163021Z

DTSTART:20190704T160000
DTEND:20190704T160000
SUMMARY:Independence Day Picnic
DESCRIPTION:At the Kautz III Lake-house. Date format is D-M-Y. Time is suggestive. Door is open all day! Eat hamburgers and stuff! 
First time I have tried this feature in Blognasium...
LOCATION:
END:VEVENT

END:VCALENDAR
